BEGIN:VCALENDAR
VERSION:2.0
PRODID:-//Seal Beach City Rotary - ECPv6.15.17.1//NONSGML v1.0//EN
CALSCALE:GREGORIAN
METHOD:PUBLISH
X-ORIGINAL-URL:https://sealbeachcityrotary.com
X-WR-CALDESC:Events for Seal Beach City Rotary
REFRESH-INTERVAL;VALUE=DURATION:PT1H
X-Robots-Tag:noindex
X-PUBLISHED-TTL:PT1H
BEGIN:VTIMEZONE
TZID:America/Los_Angeles
BEGIN:DAYLIGHT
TZOFFSETFROM:-0800
TZOFFSETTO:-0700
TZNAME:PDT
DTSTART:20240310T100000
END:DAYLIGHT
BEGIN:STANDARD
TZOFFSETFROM:-0700
TZOFFSETTO:-0800
TZNAME:PST
DTSTART:20241103T090000
END:STANDARD
BEGIN:DAYLIGHT
TZOFFSETFROM:-0800
TZOFFSETTO:-0700
TZNAME:PDT
DTSTART:20250309T100000
END:DAYLIGHT
BEGIN:STANDARD
TZOFFSETFROM:-0700
TZOFFSETTO:-0800
TZNAME:PST
DTSTART:20251102T090000
END:STANDARD
BEGIN:DAYLIGHT
TZOFFSETFROM:-0800
TZOFFSETTO:-0700
TZNAME:PDT
DTSTART:20260308T100000
END:DAYLIGHT
BEGIN:STANDARD
TZOFFSETFROM:-0700
TZOFFSETTO:-0800
TZNAME:PST
DTSTART:20261101T090000
END:STANDARD
END:VTIMEZONE
BEGIN:VEVENT
DTSTART;TZID=America/Los_Angeles:20250211T120000
DTEND;TZID=America/Los_Angeles:20250211T133000
DTSTAMP:20260421T024643
CREATED:20241122T173240Z
LAST-MODIFIED:20250211T165348Z
UID:689-1739275200-1739280600@sealbeachcityrotary.com
SUMMARY:Club Luncheon Featuring Dave DesRochers\,  Founder & CEO of The 1st & Goal Project
DESCRIPTION:“After many years as a professional athlete and coach\, I founded the 1st & Goal Project to help others find their game plan to pursue their true career calling and a life of happiness and success. It gives me great joy to see people discover new careers that are truly the best fit for them.” \n \n 
URL:https://sealbeachcityrotary.com/event/club-luncheon-3/
LOCATION:Old Ranch Country Club\, 3901 Lampson Ave.\, Seal Beach\, 90740\, United States
CATEGORIES:Lunch,Membership Meeting,Social
ORGANIZER;CN="Seal Beach City Rotary":MAILTO:sealbeachcityrotary@gmail.com
END:VEVENT
BEGIN:VEVENT
DTSTART;TZID=America/Los_Angeles:20250225T120000
DTEND;TZID=America/Los_Angeles:20250226T133000
DTSTAMP:20260421T024643
CREATED:20241122T174235Z
LAST-MODIFIED:20250227T185625Z
UID:694-1740484800-1740576600@sealbeachcityrotary.com
SUMMARY:Club Luncheon Featuring Rotarian Perla Mendoza Founder of Project Eli
DESCRIPTION:         Perla Mendoza\nAt Project Eli\, our mission is to raise awareness about the dangers of illicit fentanyl and provide education\, resources\, and support to those who are affected by this crisis.\nhttps://projecteli.info/
URL:https://sealbeachcityrotary.com/event/club-luncheon-4/
LOCATION:Old Ranch Country Club\, 3901 Lampson Ave.\, Seal Beach\, 90740\, United States
CATEGORIES:Lunch,Membership Meeting,Service Project,Social
ORGANIZER;CN="Seal Beach City Rotary":MAILTO:sealbeachcityrotary@gmail.com
END:VEVENT
END:VCALENDAR