BEGIN:VCALENDAR
VERSION:2.0
PRODID:-//Seal Beach City Rotary - ECPv6.15.17.1//NONSGML v1.0//EN
CALSCALE:GREGORIAN
METHOD:PUBLISH
X-ORIGINAL-URL:https://sealbeachcityrotary.com
X-WR-CALDESC:Events for Seal Beach City Rotary
REFRESH-INTERVAL;VALUE=DURATION:PT1H
X-Robots-Tag:noindex
X-PUBLISHED-TTL:PT1H
BEGIN:VTIMEZONE
TZID:America/Los_Angeles
BEGIN:DAYLIGHT
TZOFFSETFROM:-0800
TZOFFSETTO:-0700
TZNAME:PDT
DTSTART:20230312T100000
END:DAYLIGHT
BEGIN:STANDARD
TZOFFSETFROM:-0700
TZOFFSETTO:-0800
TZNAME:PST
DTSTART:20231105T090000
END:STANDARD
BEGIN:DAYLIGHT
TZOFFSETFROM:-0800
TZOFFSETTO:-0700
TZNAME:PDT
DTSTART:20240310T100000
END:DAYLIGHT
BEGIN:STANDARD
TZOFFSETFROM:-0700
TZOFFSETTO:-0800
TZNAME:PST
DTSTART:20241103T090000
END:STANDARD
BEGIN:DAYLIGHT
TZOFFSETFROM:-0800
TZOFFSETTO:-0700
TZNAME:PDT
DTSTART:20250309T100000
END:DAYLIGHT
BEGIN:STANDARD
TZOFFSETFROM:-0700
TZOFFSETTO:-0800
TZNAME:PST
DTSTART:20251102T090000
END:STANDARD
END:VTIMEZONE
BEGIN:VEVENT
DTSTART;VALUE=DATE:20241206
DTEND;VALUE=DATE:20241207
DTSTAMP:20260422T024521
CREATED:20240809T000456Z
LAST-MODIFIED:20240809T000518Z
UID:360-1733443200-1733529599@sealbeachcityrotary.com
SUMMARY:Seal Beach Christmas Parade
DESCRIPTION:
URL:https://sealbeachcityrotary.com/event/seal-beach-christmas-parade/
LOCATION:CA
ORGANIZER;CN="Seal Beach City Rotary":MAILTO:sealbeachcityrotary@gmail.com
END:VEVENT
BEGIN:VEVENT
DTSTART;TZID=America/Los_Angeles:20241210T120000
DTEND;TZID=America/Los_Angeles:20241210T133000
DTSTAMP:20260422T024521
CREATED:20240808T193938Z
LAST-MODIFIED:20241204T171408Z
UID:348-1733832000-1733837400@sealbeachcityrotary.com
SUMMARY:Club Luncheon Featuring Seal Beach Mayor Pro tem Lisa Landau
DESCRIPTION:“Serving as the Seal Beach City Mayor is a privilege\, a privilege that is earned only by being in the trenches of community and public service and being part of our town’s tragedies and triumphs. We lift each other up and have a special bond only Seal Beach residents have. We are Seal Beach\, and we are Seal Beach strong.” \n   Mayor Pro Tem Landau 
URL:https://sealbeachcityrotary.com/event/club-luncheon-2/
LOCATION:Old Ranch Country Club\, 3901 Lampson Ave.\, Seal Beach\, 90740\, United States
ORGANIZER;CN="Seal Beach City Rotary":MAILTO:sealbeachcityrotary@gmail.com
END:VEVENT
BEGIN:VEVENT
DTSTART;TZID=America/Los_Angeles:20241219T160000
DTEND;TZID=America/Los_Angeles:20241219T190000
DTSTAMP:20260422T024521
CREATED:20241113T203039Z
LAST-MODIFIED:20241113T203253Z
UID:684-1734624000-1734634800@sealbeachcityrotary.com
SUMMARY:SBCR Christmas Pot Luck
DESCRIPTION:Save The Date ! \nAddress will be emailed out to membership.
URL:https://sealbeachcityrotary.com/event/sbcr-christmas-pot-luck/
LOCATION:CA
CATEGORIES:Dinner,Social
ORGANIZER;CN="Seal Beach City Rotary":MAILTO:sealbeachcityrotary@gmail.com
END:VEVENT
END:VCALENDAR