BEGIN:VCALENDAR
VERSION:2.0
PRODID:-//Seal Beach City Rotary - ECPv6.15.17.1//NONSGML v1.0//EN
CALSCALE:GREGORIAN
METHOD:PUBLISH
X-WR-CALNAME:Seal Beach City Rotary
X-ORIGINAL-URL:https://sealbeachcityrotary.com
X-WR-CALDESC:Events for Seal Beach City Rotary
REFRESH-INTERVAL;VALUE=DURATION:PT1H
X-Robots-Tag:noindex
X-PUBLISHED-TTL:PT1H
BEGIN:VTIMEZONE
TZID:America/Los_Angeles
BEGIN:DAYLIGHT
TZOFFSETFROM:-0800
TZOFFSETTO:-0700
TZNAME:PDT
DTSTART:20230312T100000
END:DAYLIGHT
BEGIN:STANDARD
TZOFFSETFROM:-0700
TZOFFSETTO:-0800
TZNAME:PST
DTSTART:20231105T090000
END:STANDARD
BEGIN:DAYLIGHT
TZOFFSETFROM:-0800
TZOFFSETTO:-0700
TZNAME:PDT
DTSTART:20240310T100000
END:DAYLIGHT
BEGIN:STANDARD
TZOFFSETFROM:-0700
TZOFFSETTO:-0800
TZNAME:PST
DTSTART:20241103T090000
END:STANDARD
BEGIN:DAYLIGHT
TZOFFSETFROM:-0800
TZOFFSETTO:-0700
TZNAME:PDT
DTSTART:20250309T100000
END:DAYLIGHT
BEGIN:STANDARD
TZOFFSETFROM:-0700
TZOFFSETTO:-0800
TZNAME:PST
DTSTART:20251102T090000
END:STANDARD
END:VTIMEZONE
BEGIN:VEVENT
DTSTART;TZID=America/Los_Angeles:20241112T120000
DTEND;TZID=America/Los_Angeles:20241112T133000
DTSTAMP:20260420T062104
CREATED:20240808T191734Z
LAST-MODIFIED:20241111T170019Z
UID:343-1731412800-1731418200@sealbeachcityrotary.com
SUMMARY:Club Luncheon Featuring OCFA Division Chief Craig Covey
DESCRIPTION:
URL:https://sealbeachcityrotary.com/event/club-luncheon-featuring-ocfa-division-chief-craig-covey/
LOCATION:Old Ranch Country Club\, 3901 Lampson Ave.\, Seal Beach\, 90740\, United States
ORGANIZER;CN="Seal Beach City Rotary":MAILTO:sealbeachcityrotary@gmail.com
END:VEVENT
BEGIN:VEVENT
DTSTART;TZID=America/Los_Angeles:20241116T173000
DTEND;TZID=America/Los_Angeles:20241116T220000
DTSTAMP:20260420T062104
CREATED:20241105T202454Z
LAST-MODIFIED:20241105T202527Z
UID:639-1731778200-1731794400@sealbeachcityrotary.com
SUMMARY:District 5320 Gala
DESCRIPTION:
URL:https://sealbeachcityrotary.com/event/district-5320-gala/
LOCATION:Hotel Fera\, 100 The City Drive\, Orange\, 92868
END:VEVENT
BEGIN:VEVENT
DTSTART;TZID=America/Los_Angeles:20241126T120000
DTEND;TZID=America/Los_Angeles:20241126T133000
DTSTAMP:20260420T062104
CREATED:20240808T173306Z
LAST-MODIFIED:20240808T174721Z
UID:338-1732622400-1732627800@sealbeachcityrotary.com
SUMMARY:Club Luncheon Featuring Captain Jessica O'Brien Commanding Officer\, NAVWPNSTA Seal Beach
DESCRIPTION:
URL:https://sealbeachcityrotary.com/event/club-luncheon-featuring-captain-jessica-obrien-commanding-officer-navwpnsta-seal-beach/
LOCATION:Old Ranch Country Club\, 3901 Lampson Ave.\, Seal Beach\, 90740\, United States
ORGANIZER;CN="Seal Beach City Rotary":MAILTO:sealbeachcityrotary@gmail.com
END:VEVENT
END:VCALENDAR