BEGIN:VCALENDAR
VERSION:2.0
PRODID:-//Seal Beach City Rotary - ECPv6.15.17.1//NONSGML v1.0//EN
CALSCALE:GREGORIAN
METHOD:PUBLISH
X-ORIGINAL-URL:https://sealbeachcityrotary.com
X-WR-CALDESC:Events for Seal Beach City Rotary
REFRESH-INTERVAL;VALUE=DURATION:PT1H
X-Robots-Tag:noindex
X-PUBLISHED-TTL:PT1H
BEGIN:VTIMEZONE
TZID:America/Los_Angeles
BEGIN:DAYLIGHT
TZOFFSETFROM:-0800
TZOFFSETTO:-0700
TZNAME:PDT
DTSTART:20250309T100000
END:DAYLIGHT
BEGIN:STANDARD
TZOFFSETFROM:-0700
TZOFFSETTO:-0800
TZNAME:PST
DTSTART:20251102T090000
END:STANDARD
BEGIN:DAYLIGHT
TZOFFSETFROM:-0800
TZOFFSETTO:-0700
TZNAME:PDT
DTSTART:20260308T100000
END:DAYLIGHT
BEGIN:STANDARD
TZOFFSETFROM:-0700
TZOFFSETTO:-0800
TZNAME:PST
DTSTART:20261101T090000
END:STANDARD
BEGIN:DAYLIGHT
TZOFFSETFROM:-0800
TZOFFSETTO:-0700
TZNAME:PDT
DTSTART:20270314T100000
END:DAYLIGHT
BEGIN:STANDARD
TZOFFSETFROM:-0700
TZOFFSETTO:-0800
TZNAME:PST
DTSTART:20271107T090000
END:STANDARD
END:VTIMEZONE
BEGIN:VEVENT
DTSTART;TZID=America/Los_Angeles:20260310T120000
DTEND;TZID=America/Los_Angeles:20260310T133000
DTSTAMP:20260421T083536
CREATED:20250814T193905Z
LAST-MODIFIED:20260306T000606Z
UID:1343-1773144000-1773149400@sealbeachcityrotary.com
SUMMARY:Club Luncheon Featuring Guest Speaker Mayor Lisa Landau
DESCRIPTION:  \n\n 
URL:https://sealbeachcityrotary.com/event/club-luncheon-19/
LOCATION:Old Ranch Country Club\, 3901 Lampson Ave.\, Seal Beach\, 90740\, United States
CATEGORIES:Fundraiser,Lunch,Membership Meeting,Service Project,Social
ORGANIZER;CN="Seal Beach City Rotary":MAILTO:sealbeachcityrotary@gmail.com
END:VEVENT
BEGIN:VEVENT
DTSTART;TZID=America/Los_Angeles:20260314T080000
DTEND;TZID=America/Los_Angeles:20260314T170000
DTSTAMP:20260421T083536
CREATED:20260114T184810Z
LAST-MODIFIED:20260115T192424Z
UID:1911-1773475200-1773507600@sealbeachcityrotary.com
SUMMARY:Precious Life Shelter Gala
DESCRIPTION:https://www.preciouslifeshelter.org/new-events
URL:https://sealbeachcityrotary.com/event/precious-life-shelter-gala/
LOCATION:The Reef I Long Beach\, 880 S Harbor Scenic Dr.\, Long Beach\, CA\, 90802\, United States
CATEGORIES:Dinner,Fundraiser,Social
ORGANIZER;CN="Precious Life Shelter":MAILTO:plsinfo@preciouslifeshelter.org
END:VEVENT
BEGIN:VEVENT
DTSTART;TZID=America/Los_Angeles:20260324T120000
DTEND;TZID=America/Los_Angeles:20260324T133000
DTSTAMP:20260421T083536
CREATED:20250814T195120Z
LAST-MODIFIED:20260318T153304Z
UID:1345-1774353600-1774359000@sealbeachcityrotary.com
SUMMARY:Club Luncheon With Guest Speaker Anna Derby
DESCRIPTION:        Golden Age Foundation\n                   \n        “Give Where You Live”
URL:https://sealbeachcityrotary.com/event/club-luncheon-20/
LOCATION:Old Ranch Country Club\, 3901 Lampson Ave.\, Seal Beach\, 90740\, United States
CATEGORIES:Fundraiser,Lunch,Membership Meeting,Service Project,Social
ORGANIZER;CN="Seal Beach City Rotary":MAILTO:sealbeachcityrotary@gmail.com
END:VEVENT
BEGIN:VEVENT
DTSTART;TZID=America/Los_Angeles:20260407T140000
DTEND;TZID=America/Los_Angeles:20260407T153000
DTSTAMP:20260421T083536
CREATED:20250814T200342Z
LAST-MODIFIED:20250814T203415Z
UID:1347-1775570400-1775575800@sealbeachcityrotary.com
SUMMARY:Board Meeting
DESCRIPTION:
URL:https://sealbeachcityrotary.com/event/board-meeting-3/
ORGANIZER;CN="Seal Beach City Rotary":MAILTO:sealbeachcityrotary@gmail.com
END:VEVENT
BEGIN:VEVENT
DTSTART;TZID=America/Los_Angeles:20260414T120000
DTEND;TZID=America/Los_Angeles:20260414T133000
DTSTAMP:20260421T083536
CREATED:20250814T203042Z
LAST-MODIFIED:20260410T182108Z
UID:1350-1776168000-1776173400@sealbeachcityrotary.com
SUMMARY:Club Luncheon Featuring Guest Speaker Downey Mayor Claudia Frometa "Planning for a City's Successful Future!"
DESCRIPTION:   As a major metropolis\, four times the size of Seal Beach and with forty million dollars in reserves. Downy’s Mayor Frometa\, will share some program ideas that has allowed her city to be successful!
URL:https://sealbeachcityrotary.com/event/club-luncheon-21/
LOCATION:Old Ranch Country Club\, 3901 Lampson Ave.\, Seal Beach\, 90740\, United States
CATEGORIES:Lunch,Membership Meeting,Social
ORGANIZER;CN="Seal Beach City Rotary":MAILTO:sealbeachcityrotary@gmail.com
END:VEVENT
BEGIN:VEVENT
DTSTART;TZID=America/Los_Angeles:20260417T080000
DTEND;TZID=America/Los_Angeles:20260418T170000
DTSTAMP:20260421T083536
CREATED:20260406T223240Z
LAST-MODIFIED:20260406T223240Z
UID:2560-1776412800-1776531600@sealbeachcityrotary.com
SUMMARY:Father Con
DESCRIPTION:
URL:https://sealbeachcityrotary.com/event/father-con/
END:VEVENT
BEGIN:VEVENT
DTSTART;TZID=America/Los_Angeles:20260425T080000
DTEND;TZID=America/Los_Angeles:20260425T170000
DTSTAMP:20260421T083536
CREATED:20260402T201659Z
LAST-MODIFIED:20260402T211849Z
UID:2511-1777104000-1777136400@sealbeachcityrotary.com
SUMMARY:Chamber of Commerce Classic Car Show
DESCRIPTION:
URL:https://sealbeachcityrotary.com/event/chamber-of-commerce-classic-car-show/
CATEGORIES:Fundraiser,Service Project,Social
END:VEVENT
BEGIN:VEVENT
DTSTART;TZID=America/Los_Angeles:20260428T120000
DTEND;TZID=America/Los_Angeles:20260428T133000
DTSTAMP:20260421T083536
CREATED:20260406T212833Z
LAST-MODIFIED:20260420T194639Z
UID:2553-1777377600-1777383000@sealbeachcityrotary.com
SUMMARY:Club Luncheon Featuring Guest Speaker OC Superintendant\, Dr. Stefan Bean
DESCRIPTION:​​Polio survivor\, Dr. Stefan Bean has dedicated the past 25 years to serving Southern California communities and students as a teacher\, principal and school administrator. In June 2024\, the Orange County Board of Education unanimously appointed him as Orange County’s 12th superintendent of schools\, a position that dates back to 1889.
URL:https://sealbeachcityrotary.com/event/club-luncheon-featuring-guest-speaker-oc-superintendant-dr-stefan-bean/
LOCATION:Old Ranch Country Club\, 3901 Lampson Ave.\, Seal Beach\, 90740\, United States
CATEGORIES:Fundraiser,Lunch,Membership Meeting,Service Project,Social
ORGANIZER;CN="Seal Beach City Rotary":MAILTO:sealbeachcityrotary@gmail.com
END:VEVENT
BEGIN:VEVENT
DTSTART;TZID=America/Los_Angeles:20260512T120000
DTEND;TZID=America/Los_Angeles:20260512T133000
DTSTAMP:20260421T083536
CREATED:20250814T204210Z
LAST-MODIFIED:20260402T194345Z
UID:1353-1778587200-1778592600@sealbeachcityrotary.com
SUMMARY:Club Planning Session for Memorial Day Weekend
DESCRIPTION:This meeting will serve as our planning session for our Memorial Day Event May 23rd. All hands on deck! \n  \n 
URL:https://sealbeachcityrotary.com/event/board-meeting-4/
LOCATION:Old Ranch Country Club\, 3901 Lampson Ave.\, Seal Beach\, 90740\, United States
CATEGORIES:Fundraiser,Lunch,Membership Meeting,Service Project,Social
ORGANIZER;CN="Seal Beach City Rotary":MAILTO:sealbeachcityrotary@gmail.com
END:VEVENT
BEGIN:VEVENT
DTSTART;TZID=America/Los_Angeles:20260523T180000
DTEND;TZID=America/Los_Angeles:20260523T190000
DTSTAMP:20260421T083536
CREATED:20260130T174953Z
LAST-MODIFIED:20260417T174310Z
UID:2253-1779559200-1779562800@sealbeachcityrotary.com
SUMMARY:Memorial Day Weekend Celebration Saturday 6pm
DESCRIPTION:Please join us for our annual Memorial Day Weekend Celebration. The event is free to attend featuring guest speakers and special musical performances!
URL:https://sealbeachcityrotary.com/event/memorial-day-weekend-celebration/
LOCATION:Eisenhower Park\, Ocean Ave & Main St.\, Seal Beach\, CA\, 90740\, United States
CATEGORIES:Fundraiser,Service Project,Social
ORGANIZER;CN="Seal Beach City Rotary":MAILTO:sealbeachcityrotary@gmail.com
END:VEVENT
BEGIN:VEVENT
DTSTART;TZID=America/Los_Angeles:20260529T183000
DTEND;TZID=America/Los_Angeles:20260529T210000
DTSTAMP:20260421T083536
CREATED:20260417T164736Z
LAST-MODIFIED:20260417T164736Z
UID:2718-1780079400-1780088400@sealbeachcityrotary.com
SUMMARY:18th Annual OCFA Best & Bravest Awards
DESCRIPTION:Screenshot
URL:https://sealbeachcityrotary.com/event/18th-annual-ocfa-best-bravest-awards/
LOCATION:Irvine Marriot\, 18000 Von Karman\, Irvine\, CA\, 92612
END:VEVENT
BEGIN:VEVENT
DTSTART;TZID=America/Los_Angeles:20260810T083000
DTEND;TZID=America/Los_Angeles:20260810T180000
DTSTAMP:20260421T083536
CREATED:20260411T235109Z
LAST-MODIFIED:20260417T161256Z
UID:2606-1786350600-1786384800@sealbeachcityrotary.com
SUMMARY:Seal Beach Police Officers Association Golf Classic
DESCRIPTION:
URL:https://sealbeachcityrotary.com/event/seal-beach-police-officers-association-golf-classic/
LOCATION:Old Ranch Country Club\, 3901 Lampson Ave.\, Seal Beach\, 90740\, United States
CATEGORIES:Dinner,Fundraiser,Service Project,Social
ORGANIZER;CN="Seal Beach City Rotary":MAILTO:sealbeachcityrotary@gmail.com
END:VEVENT
END:VCALENDAR