BEGIN:VCALENDAR
VERSION:2.0
PRODID:-//Seal Beach City Rotary - ECPv6.15.17.1//NONSGML v1.0//EN
CALSCALE:GREGORIAN
METHOD:PUBLISH
X-WR-CALNAME:Seal Beach City Rotary
X-ORIGINAL-URL:https://sealbeachcityrotary.com
X-WR-CALDESC:Events for Seal Beach City Rotary
REFRESH-INTERVAL;VALUE=DURATION:PT1H
X-Robots-Tag:noindex
X-PUBLISHED-TTL:PT1H
BEGIN:VTIMEZONE
TZID:America/Los_Angeles
BEGIN:DAYLIGHT
TZOFFSETFROM:-0800
TZOFFSETTO:-0700
TZNAME:PDT
DTSTART:20240310T100000
END:DAYLIGHT
BEGIN:STANDARD
TZOFFSETFROM:-0700
TZOFFSETTO:-0800
TZNAME:PST
DTSTART:20241103T090000
END:STANDARD
BEGIN:DAYLIGHT
TZOFFSETFROM:-0800
TZOFFSETTO:-0700
TZNAME:PDT
DTSTART:20250309T100000
END:DAYLIGHT
BEGIN:STANDARD
TZOFFSETFROM:-0700
TZOFFSETTO:-0800
TZNAME:PST
DTSTART:20251102T090000
END:STANDARD
BEGIN:DAYLIGHT
TZOFFSETFROM:-0800
TZOFFSETTO:-0700
TZNAME:PDT
DTSTART:20260308T100000
END:DAYLIGHT
BEGIN:STANDARD
TZOFFSETFROM:-0700
TZOFFSETTO:-0800
TZNAME:PST
DTSTART:20261101T090000
END:STANDARD
END:VTIMEZONE
BEGIN:VEVENT
DTSTART;TZID=America/Los_Angeles:20250314T190000
DTEND;TZID=America/Los_Angeles:20250314T220000
DTSTAMP:20260421T024154
CREATED:20250219T172414Z
LAST-MODIFIED:20250219T193239Z
UID:978-1741978800-1741989600@sealbeachcityrotary.com
SUMMARY:District 5320 Fundraiser With the Anaheim Ducks
DESCRIPTION:  \nhttp://duckstix.com/rotary5320\n\n\n\nJoin your fellow club members at the Honda Center as the Ducks take on the Predators on March 14th! For every ticket purchased\, a portion of the proceeds will be donated to the district foundation.
URL:https://sealbeachcityrotary.com/event/district-5320-fundraiser-with-the-anaheim-ducks/
LOCATION:Honda Center\, 2695 E Katella Ave\, Anaheim\, CA\, 92806\, United States
CATEGORIES:Fundraiser,Service Project,Social
END:VEVENT
END:VCALENDAR