BEGIN:VCALENDAR
VERSION:2.0
PRODID:-//Seal Beach City Rotary - ECPv6.15.17.1//NONSGML v1.0//EN
CALSCALE:GREGORIAN
METHOD:PUBLISH
X-ORIGINAL-URL:https://sealbeachcityrotary.com
X-WR-CALDESC:Events for Seal Beach City Rotary
REFRESH-INTERVAL;VALUE=DURATION:PT1H
X-Robots-Tag:noindex
X-PUBLISHED-TTL:PT1H
BEGIN:VTIMEZONE
TZID:America/Los_Angeles
BEGIN:DAYLIGHT
TZOFFSETFROM:-0800
TZOFFSETTO:-0700
TZNAME:PDT
DTSTART:20240310T100000
END:DAYLIGHT
BEGIN:STANDARD
TZOFFSETFROM:-0700
TZOFFSETTO:-0800
TZNAME:PST
DTSTART:20241103T090000
END:STANDARD
BEGIN:DAYLIGHT
TZOFFSETFROM:-0800
TZOFFSETTO:-0700
TZNAME:PDT
DTSTART:20250309T100000
END:DAYLIGHT
BEGIN:STANDARD
TZOFFSETFROM:-0700
TZOFFSETTO:-0800
TZNAME:PST
DTSTART:20251102T090000
END:STANDARD
BEGIN:DAYLIGHT
TZOFFSETFROM:-0800
TZOFFSETTO:-0700
TZNAME:PDT
DTSTART:20260308T100000
END:DAYLIGHT
BEGIN:STANDARD
TZOFFSETFROM:-0700
TZOFFSETTO:-0800
TZNAME:PST
DTSTART:20261101T090000
END:STANDARD
END:VTIMEZONE
BEGIN:VEVENT
DTSTART;TZID=America/Los_Angeles:20250304T120000
DTEND;TZID=America/Los_Angeles:20250304T133000
DTSTAMP:20260419T052756
CREATED:20250212T175059Z
LAST-MODIFIED:20250227T193730Z
UID:927-1741089600-1741095000@sealbeachcityrotary.com
SUMMARY:Club Luncheon featuring Orange County Supervisor Janet Nguyen Speaking on Service Club Month and her Fight Against Rising Gas Prices!
DESCRIPTION:We Welcome Orange County’s Newest Supervisor Janet Nguyen who will be speaking to us on the upcoming Service Club Month and her fight against rising gas prices!
URL:https://sealbeachcityrotary.com/event/club-luncheon-featuring-orange-county-supervisor-janet-nguyen-speaking-on-service-club-month-and-her-fight-against-rising-gas-prices/
LOCATION:Old Ranch Country Club\, 3901 Lampson Ave.\, Seal Beach\, 90740\, United States
CATEGORIES:Lunch,Membership Meeting,Service Project,Social
ORGANIZER;CN="Seal Beach City Rotary":MAILTO:sealbeachcityrotary@gmail.com
END:VEVENT
END:VCALENDAR