BEGIN:VCALENDAR
VERSION:2.0
PRODID:-//Seal Beach City Rotary - ECPv6.15.17.1//NONSGML v1.0//EN
CALSCALE:GREGORIAN
METHOD:PUBLISH
X-WR-CALNAME:Seal Beach City Rotary
X-ORIGINAL-URL:https://sealbeachcityrotary.com
X-WR-CALDESC:Events for Seal Beach City Rotary
REFRESH-INTERVAL;VALUE=DURATION:PT1H
X-Robots-Tag:noindex
X-PUBLISHED-TTL:PT1H
BEGIN:VTIMEZONE
TZID:America/Los_Angeles
BEGIN:DAYLIGHT
TZOFFSETFROM:-0800
TZOFFSETTO:-0700
TZNAME:PDT
DTSTART:20230312T100000
END:DAYLIGHT
BEGIN:STANDARD
TZOFFSETFROM:-0700
TZOFFSETTO:-0800
TZNAME:PST
DTSTART:20231105T090000
END:STANDARD
BEGIN:DAYLIGHT
TZOFFSETFROM:-0800
TZOFFSETTO:-0700
TZNAME:PDT
DTSTART:20240310T100000
END:DAYLIGHT
BEGIN:STANDARD
TZOFFSETFROM:-0700
TZOFFSETTO:-0800
TZNAME:PST
DTSTART:20241103T090000
END:STANDARD
BEGIN:DAYLIGHT
TZOFFSETFROM:-0800
TZOFFSETTO:-0700
TZNAME:PDT
DTSTART:20250309T100000
END:DAYLIGHT
BEGIN:STANDARD
TZOFFSETFROM:-0700
TZOFFSETTO:-0800
TZNAME:PST
DTSTART:20251102T090000
END:STANDARD
END:VTIMEZONE
BEGIN:VEVENT
DTSTART;TZID=America/Los_Angeles:20241008T120000
DTEND;TZID=America/Los_Angeles:20241008T133000
DTSTAMP:20260423T023947
CREATED:20240802T201919Z
LAST-MODIFIED:20241004T164841Z
UID:333-1728388800-1728394200@sealbeachcityrotary.com
SUMMARY:Club Luncheon / Regular Membership Meeting & District Governor Visitation
DESCRIPTION:Ditrict Governor Christopher Skorina visits SBCR to give a State of the Ditrict Address.
URL:https://sealbeachcityrotary.com/event/club-luncheon-regular-membership-meeting-district-governor-visitation/
LOCATION:Old Ranch Country Club\, 3901 Lampson Ave.\, Seal Beach\, 90740\, United States
CATEGORIES:Membership Meeting
ORGANIZER;CN="Seal Beach City Rotary":MAILTO:sealbeachcityrotary@gmail.com
END:VEVENT
END:VCALENDAR